BEGIN:VCALENDAR
VERSION:2.0
PRODID:-//East Lincoln Alliance Church - ECPv6.15.20//NONSGML v1.0//EN
CALSCALE:GREGORIAN
METHOD:PUBLISH
X-ORIGINAL-URL:https://eastlincolnalliance.com
X-WR-CALDESC:Events for East Lincoln Alliance Church
REFRESH-INTERVAL;VALUE=DURATION:PT1H
X-Robots-Tag:noindex
X-PUBLISHED-TTL:PT1H
BEGIN:VTIMEZONE
TZID:UTC
BEGIN:STANDARD
TZOFFSETFROM:+0000
TZOFFSETTO:+0000
TZNAME:UTC
DTSTART:20240101T000000
END:STANDARD
END:VTIMEZONE
BEGIN:VEVENT
DTSTART;TZID=UTC:20251025T180000
DTEND;TZID=UTC:20251025T210000
DTSTAMP:20260424T041403
CREATED:20251010T160545Z
LAST-MODIFIED:20251010T160545Z
UID:11079-1761415200-1761426000@eastlincolnalliance.com
SUMMARY:Underground Church
DESCRIPTION:Attention all 6th-12th graders!  Are you ready to face the unknown?  Join us for an immersive experience during an Underground Church event.  Together\, we’ll navigate challenges\, share stories and find hope.  Bring a friend!  It’ll be an evening of excitement and adventure along with a time of worship. \nLocation: 753 55th Ave\, Clayton \nPlease fill out a Parent Permission form here.
URL:https://eastlincolnalliance.com/event/underground-church-3/
LOCATION:WI
END:VEVENT
END:VCALENDAR