BEGIN:VCALENDAR
VERSION:2.0
PRODID:-//East Lincoln Alliance Church - ECPv6.15.20//NONSGML v1.0//EN
CALSCALE:GREGORIAN
METHOD:PUBLISH
X-WR-CALNAME:East Lincoln Alliance Church
X-ORIGINAL-URL:https://eastlincolnalliance.com
X-WR-CALDESC:Events for East Lincoln Alliance Church
REFRESH-INTERVAL;VALUE=DURATION:PT1H
X-Robots-Tag:noindex
X-PUBLISHED-TTL:PT1H
BEGIN:VTIMEZONE
TZID:UTC
BEGIN:STANDARD
TZOFFSETFROM:+0000
TZOFFSETTO:+0000
TZNAME:UTC
DTSTART:20240101T000000
END:STANDARD
END:VTIMEZONE
BEGIN:VEVENT
DTSTART;TZID=UTC:20251022T090000
DTEND;TZID=UTC:20251022T160000
DTSTAMP:20260424T041344
CREATED:20251017T011207Z
LAST-MODIFIED:20251017T011207Z
UID:11087-1761123600-1761148800@eastlincolnalliance.com
SUMMARY:Women's Craft Day
DESCRIPTION:Women are invited to join on Wednesday\, October 22nd 9am-4pm at Cindy Moe’s for a day of crafting and fellowship. Bring whatever project you are working on or just come and visit! Pack a lunch. Contact Julie Anderson if you have questions\, 715-607-8022.
URL:https://eastlincolnalliance.com/event/womens-craft-day-40/
LOCATION:WI
END:VEVENT
BEGIN:VEVENT
DTSTART;TZID=UTC:20251022T151500
DTEND;TZID=UTC:20251022T163000
DTSTAMP:20260424T041344
CREATED:20250902T204526Z
LAST-MODIFIED:20250902T204526Z
UID:10908-1761146100-1761150600@eastlincolnalliance.com
SUMMARY:After School Good News Club
DESCRIPTION:All K-5th grade students are invited to After School Good News Club at Lien Elementary School (Amery) right after school (3:15pm) until 4:30pm every Wednesday that Amery Schools are in session. \nStudents attending the Intermediate School should ride the transfer bus to the Elementary School. Registration Forms must be filled out (below).   Questions? Contact Mary Schussman. \neastlincolnalliance.com/ninja-forms/10okpn/
URL:https://eastlincolnalliance.com/event/after-school-good-news-club-90/
LOCATION:Lien Elementary School\, 469 Minneapolis Ave S\, Amery\, WI\, 54001\, United States
END:VEVENT
BEGIN:VEVENT
DTSTART;TZID=UTC:20251022T180000
DTEND;TZID=UTC:20251022T200000
DTSTAMP:20260424T041344
CREATED:20250902T181742Z
LAST-MODIFIED:20250902T181742Z
UID:10853-1761156000-1761163200@eastlincolnalliance.com
SUMMARY:Recharge
DESCRIPTION:All students 6-12th grade are invited to attend.  Make sure to invite your friends!
URL:https://eastlincolnalliance.com/event/recharge-119/
LOCATION:East Lincoln Alliance Church\, 735 70th Avenue\, Amery\, WI\, 54001\, United States
END:VEVENT
BEGIN:VEVENT
DTSTART;TZID=UTC:20251022T180000
DTEND;TZID=UTC:20251022T200000
DTSTAMP:20260424T041344
CREATED:20250902T203637Z
LAST-MODIFIED:20250902T203637Z
UID:10880-1761156000-1761163200@eastlincolnalliance.com
SUMMARY:Son Seekers
DESCRIPTION:Son Seekers is a program for K-5th graders.  Programming is 6-8pm every Wednesday at East Lincoln Alliance Church. We will have games\, stories\, songs\, crafts.
URL:https://eastlincolnalliance.com/event/son-seekers-59/
LOCATION:East Lincoln Alliance Church\, 735 70th Avenue\, Amery\, WI\, 54001\, United States
END:VEVENT
END:VCALENDAR