BEGIN:VCALENDAR
VERSION:2.0
PRODID:-//East Lincoln Alliance Church - ECPv6.15.20//NONSGML v1.0//EN
CALSCALE:GREGORIAN
METHOD:PUBLISH
X-WR-CALNAME:East Lincoln Alliance Church
X-ORIGINAL-URL:https://eastlincolnalliance.com
X-WR-CALDESC:Events for East Lincoln Alliance Church
REFRESH-INTERVAL;VALUE=DURATION:PT1H
X-Robots-Tag:noindex
X-PUBLISHED-TTL:PT1H
BEGIN:VTIMEZONE
TZID:UTC
BEGIN:STANDARD
TZOFFSETFROM:+0000
TZOFFSETTO:+0000
TZNAME:UTC
DTSTART:20240101T000000
END:STANDARD
END:VTIMEZONE
BEGIN:VEVENT
DTSTART;VALUE=DATE:20250926
DTEND;VALUE=DATE:20250929
DTSTAMP:20260424T041341
CREATED:20250908T170732Z
LAST-MODIFIED:20250908T170853Z
UID:10939-1758844800-1759103999@eastlincolnalliance.com
SUMMARY:Women's Fall Refresher @ Arrowhead Bible Camp
DESCRIPTION:Is your schedule ridiculously full\, but you desperately need some time away?  Could your outlook on life be a whole lot better if you made time to refresh your mind?  If you need a getaway with the girls\, this is the perfect fall weekend retreat! \nRelax with home-cooked meals and the beauty of God’s creation.  There will be various free time options\, indoor and out\, that you can join in…pontoon rides\, wagon rides\, coloring\, coffee\, hiking\, kayaking\, and plenty more!  Feel free to bring crafts\, games\, or other activities to do if you would like.  Be refreshed and renewed as you worship together with other women and discover how to experience the life God planned for you! \nJoin for the full weekend (Friday to Sunday – cost is $124)\, Friday to Saturday only (cost is $81)\, Saturday to Sunday only (cost is $87)\, or Saturday only (cost is $44) \nRegister at abcamp.org \nSign up at the church so we can carpool!
URL:https://eastlincolnalliance.com/event/womens-fall-refresher-arrowhead-bible-camp/
LOCATION:Arrowhead Bible Camp\, 30765 117th St\, New Auburn\, WI\, 54757\, United States
END:VEVENT
BEGIN:VEVENT
DTSTART;TZID=UTC:20250928T084500
DTEND;TZID=UTC:20250928T094500
DTSTAMP:20260424T041341
CREATED:20250603T173858Z
LAST-MODIFIED:20250603T173858Z
UID:10597-1759049100-1759052700@eastlincolnalliance.com
SUMMARY:Discipleship Hour
DESCRIPTION:Join us for Discipleship Hour from 8:45-9:45am.  All 6th grade and up are invited.
URL:https://eastlincolnalliance.com/event/discipleship-hour-73/
LOCATION:East Lincoln Alliance Church\, 735 70th Avenue\, Amery\, WI\, 54001\, United States
END:VEVENT
BEGIN:VEVENT
DTSTART;TZID=UTC:20250928T100000
DTEND;TZID=UTC:20250928T111500
DTSTAMP:20260424T041341
CREATED:20250603T180223Z
LAST-MODIFIED:20250603T180223Z
UID:10621-1759053600-1759058100@eastlincolnalliance.com
SUMMARY:Worship Service
DESCRIPTION:We welcome you to our regular worship service every Sunday @ 10:00am.\n\n\n\nWe offer the following services for kids during the Worship Service: \nEarly Childhood care for 1-3 year olds in the East Wing \n4 years old-Kindergarten in the West Wing (Discovery Land) \n1st-5th Grade in the East Wing (Discovery Land)
URL:https://eastlincolnalliance.com/event/worship-service-169/
LOCATION:East Lincoln Alliance Church\, 735 70th Avenue\, Amery\, WI\, 54001\, United States
END:VEVENT
BEGIN:VEVENT
DTSTART;TZID=UTC:20250928T113000
DTEND;TZID=UTC:20250928T123000
DTSTAMP:20260424T041341
CREATED:20250908T184615Z
LAST-MODIFIED:20250908T184615Z
UID:10963-1759059000-1759062600@eastlincolnalliance.com
SUMMARY:Annual Child/Youth Volunteer Safety & Security Training
DESCRIPTION:All who volunteer with ELAC youth and/or Children’s Ministry are required to attend our annual Safety Training on Sunday\, September 28th\, 11:30am.  Contact the church office if you have questions or are unable to attend.
URL:https://eastlincolnalliance.com/event/annual-child-youth-volunteer-safety-security-training/
LOCATION:East Lincoln Alliance Church\, 735 70th Avenue\, Amery\, WI\, 54001\, United States
END:VEVENT
END:VCALENDAR