BEGIN:VCALENDAR
VERSION:2.0
PRODID:-//East Lincoln Alliance Church - ECPv6.15.20//NONSGML v1.0//EN
CALSCALE:GREGORIAN
METHOD:PUBLISH
X-ORIGINAL-URL:https://eastlincolnalliance.com
X-WR-CALDESC:Events for East Lincoln Alliance Church
REFRESH-INTERVAL;VALUE=DURATION:PT1H
X-Robots-Tag:noindex
X-PUBLISHED-TTL:PT1H
BEGIN:VTIMEZONE
TZID:UTC
BEGIN:STANDARD
TZOFFSETFROM:+0000
TZOFFSETTO:+0000
TZNAME:UTC
DTSTART:20240101T000000
END:STANDARD
END:VTIMEZONE
BEGIN:VEVENT
DTSTART;TZID=UTC:20250825T180000
DTEND;TZID=UTC:20250825T200000
DTSTAMP:20260424T085423
CREATED:20250819T001330Z
LAST-MODIFIED:20250819T004548Z
UID:10819-1756144800-1756152000@eastlincolnalliance.com
SUMMARY:HOPE aLIVE Prayer Walk & Door to Door Invite
DESCRIPTION:Please join us for a Prayer Walk at Michael Park on Monday\, August 25th.  After the prayer walk\, we invite all who would like to go door-to-door to hand out invitations. \n 
URL:https://eastlincolnalliance.com/event/hope-alive-prayer-walk-door-to-door-invite/
LOCATION:Michael Park\, 132 Central Street\, Amery\, WI\, 54001\, United States
END:VEVENT
END:VCALENDAR