BEGIN:VCALENDAR
VERSION:2.0
PRODID:-//East Lincoln Alliance Church - ECPv6.15.20//NONSGML v1.0//EN
CALSCALE:GREGORIAN
METHOD:PUBLISH
X-ORIGINAL-URL:https://eastlincolnalliance.com
X-WR-CALDESC:Events for East Lincoln Alliance Church
REFRESH-INTERVAL;VALUE=DURATION:PT1H
X-Robots-Tag:noindex
X-PUBLISHED-TTL:PT1H
BEGIN:VTIMEZONE
TZID:UTC
BEGIN:STANDARD
TZOFFSETFROM:+0000
TZOFFSETTO:+0000
TZNAME:UTC
DTSTART:20240101T000000
END:STANDARD
END:VTIMEZONE
BEGIN:VEVENT
DTSTART;TZID=UTC:20250803T084500
DTEND;TZID=UTC:20250803T094500
DTSTAMP:20260424T085423
CREATED:20250603T173412Z
LAST-MODIFIED:20250603T173412Z
UID:10581-1754210700-1754214300@eastlincolnalliance.com
SUMMARY:Discipleship Hour
DESCRIPTION:Join us for Discipleship Hour from 8:45-9:45am.  All 6th grade and up are invited.
URL:https://eastlincolnalliance.com/event/discipleship-hour-65/
LOCATION:East Lincoln Alliance Church\, 735 70th Avenue\, Amery\, WI\, 54001\, United States
END:VEVENT
BEGIN:VEVENT
DTSTART;TZID=UTC:20250803T100000
DTEND;TZID=UTC:20250803T111500
DTSTAMP:20260424T085423
CREATED:20250603T174237Z
LAST-MODIFIED:20250603T174237Z
UID:10605-1754215200-1754219700@eastlincolnalliance.com
SUMMARY:Worship Service
DESCRIPTION:We welcome you to our regular worship service every Sunday @ 10:00am.\n\n\n\nWe offer the following services for kids during the Worship Service: \nEarly Childhood care for 1-3 year olds in the East Wing \n4 years old-Kindergarten in the West Wing (Discovery Land) \n1st-5th Grade in the East Wing (Discovery Land)
URL:https://eastlincolnalliance.com/event/worship-service-161/
LOCATION:East Lincoln Alliance Church\, 735 70th Avenue\, Amery\, WI\, 54001\, United States
END:VEVENT
BEGIN:VEVENT
DTSTART;TZID=UTC:20250803T113000
DTEND;TZID=UTC:20250803T130000
DTSTAMP:20260424T085423
CREATED:20250718T221637Z
LAST-MODIFIED:20250718T221637Z
UID:10750-1754220600-1754226000@eastlincolnalliance.com
SUMMARY:Single Women's Fellowship
DESCRIPTION:All single women are invited to join on Sunday\, August 3rd at 11:30am.  We will be going out for lunch.
URL:https://eastlincolnalliance.com/event/single-womens-fellowship-23/
LOCATION:WI
END:VEVENT
BEGIN:VEVENT
DTSTART;TZID=UTC:20250803T170000
DTEND;TZID=UTC:20250803T190000
DTSTAMP:20260424T085423
CREATED:20250528T183542Z
LAST-MODIFIED:20250528T183542Z
UID:10558-1754240400-1754247600@eastlincolnalliance.com
SUMMARY:Picnic & Baptismal Service
DESCRIPTION:ELAC will be having its annual Baptismal Service on Sunday\, August 3rd 5-7pm.  The Baptismal Service will be held at Clear Lake Park with a potluck dinner at 5pm and the baptism after.  Contact the church office or Pastor Eric for more information.
URL:https://eastlincolnalliance.com/event/picnic-baptismal-service/
LOCATION:Clear Lake Park\, Clear Lake\, WI\, United States
END:VEVENT
END:VCALENDAR