BEGIN:VCALENDAR
VERSION:2.0
PRODID:-//East Lincoln Alliance Church - ECPv6.15.20//NONSGML v1.0//EN
CALSCALE:GREGORIAN
METHOD:PUBLISH
X-WR-CALNAME:East Lincoln Alliance Church
X-ORIGINAL-URL:https://eastlincolnalliance.com
X-WR-CALDESC:Events for East Lincoln Alliance Church
REFRESH-INTERVAL;VALUE=DURATION:PT1H
X-Robots-Tag:noindex
X-PUBLISHED-TTL:PT1H
BEGIN:VTIMEZONE
TZID:UTC
BEGIN:STANDARD
TZOFFSETFROM:+0000
TZOFFSETTO:+0000
TZNAME:UTC
DTSTART:20240101T000000
END:STANDARD
END:VTIMEZONE
BEGIN:VEVENT
DTSTART;TZID=UTC:20250720T100000
DTEND;TZID=UTC:20250720T123000
DTSTAMP:20260424T101840
CREATED:20250505T145242Z
LAST-MODIFIED:20250505T145242Z
UID:10502-1753005600-1753014600@eastlincolnalliance.com
SUMMARY:Worship at Michael Park
DESCRIPTION:We will be having an outdoor worship service at Michael Park on Sunday\, July 20th at our normal time\, 10:00am. The service will take place on Danielson Stage\, bring your lawn chair or a blanket to sit on!  Stay for a potluck meal (please bring a dish to pass) and yard games! Culinary Group 1 will be in charge of the potluck set up/clean up. \nThere will be no Discipleship Hour prior to the service. \nThere will be no Discovery Land or Early Childhood care during the service.
URL:https://eastlincolnalliance.com/event/worship-at-michael-park-3/
LOCATION:Michael Park\, 132 Central Street\, Amery\, WI\, 54001\, United States
END:VEVENT
END:VCALENDAR