BEGIN:VCALENDAR
VERSION:2.0
PRODID:-//East Lincoln Alliance Church - ECPv6.15.20//NONSGML v1.0//EN
CALSCALE:GREGORIAN
METHOD:PUBLISH
X-ORIGINAL-URL:https://eastlincolnalliance.com
X-WR-CALDESC:Events for East Lincoln Alliance Church
REFRESH-INTERVAL;VALUE=DURATION:PT1H
X-Robots-Tag:noindex
X-PUBLISHED-TTL:PT1H
BEGIN:VTIMEZONE
TZID:UTC
BEGIN:STANDARD
TZOFFSETFROM:+0000
TZOFFSETTO:+0000
TZNAME:UTC
DTSTART:20240101T000000
END:STANDARD
END:VTIMEZONE
BEGIN:VEVENT
DTSTART;VALUE=DATE:20250625
DTEND;VALUE=DATE:20250701
DTSTAMP:20260424T102447
CREATED:20250602T155126Z
LAST-MODIFIED:20250619T160608Z
UID:10564-1750809600-1751327999@eastlincolnalliance.com
SUMMARY:Tables & Chairs Rented
DESCRIPTION:Jo Kiel
URL:https://eastlincolnalliance.com/event/tables-chairs-rented-4/
LOCATION:WI
END:VEVENT
BEGIN:VEVENT
DTSTART;TZID=UTC:20250629T084500
DTEND;TZID=UTC:20250629T094500
DTSTAMP:20260424T102447
CREATED:20250307T194111Z
LAST-MODIFIED:20250307T194111Z
UID:10327-1751186700-1751190300@eastlincolnalliance.com
SUMMARY:Discipleship Hour
DESCRIPTION:Join us for Discipleship Hour from 8:45-9:45am.  All 6th grade and up are invited.
URL:https://eastlincolnalliance.com/event/discipleship-hour-61/
LOCATION:East Lincoln Alliance Church\, 735 70th Avenue\, Amery\, WI\, 54001\, United States
END:VEVENT
BEGIN:VEVENT
DTSTART;TZID=UTC:20250629T100000
DTEND;TZID=UTC:20250629T111500
DTSTAMP:20260424T102447
CREATED:20250307T194832Z
LAST-MODIFIED:20250307T194832Z
UID:10353-1751191200-1751195700@eastlincolnalliance.com
SUMMARY:Worship Service
DESCRIPTION:We welcome you to our regular worship service every Sunday @ 10:00am.\n\n\n\nWe offer the following services for kids during the Worship Service: \nEarly Childhood care for 1-3 year olds in the East Wing \n4 years old-Kindergarten in the West Wing (Discovery Land) \n1st-5th Grade in the East Wing (Discovery Land)
URL:https://eastlincolnalliance.com/event/worship-service-157/
LOCATION:East Lincoln Alliance Church\, 735 70th Avenue\, Amery\, WI\, 54001\, United States
END:VEVENT
BEGIN:VEVENT
DTSTART;TZID=UTC:20250629T113000
DTEND;TZID=UTC:20250629T143000
DTSTAMP:20260424T102447
CREATED:20250606T171849Z
LAST-MODIFIED:20250606T171849Z
UID:10658-1751196600-1751207400@eastlincolnalliance.com
SUMMARY:Bridal Shower for Lyla Stone & Joel Springett
DESCRIPTION:
URL:https://eastlincolnalliance.com/event/bridal-shower-for-lyla-stone-joel-springett/
LOCATION:East Lincoln Alliance Church\, 735 70th Avenue\, Amery\, WI\, 54001\, United States
END:VEVENT
END:VCALENDAR