BEGIN:VCALENDAR
VERSION:2.0
PRODID:-//East Lincoln Alliance Church - ECPv6.15.20//NONSGML v1.0//EN
CALSCALE:GREGORIAN
METHOD:PUBLISH
X-ORIGINAL-URL:https://eastlincolnalliance.com
X-WR-CALDESC:Events for East Lincoln Alliance Church
REFRESH-INTERVAL;VALUE=DURATION:PT1H
X-Robots-Tag:noindex
X-PUBLISHED-TTL:PT1H
BEGIN:VTIMEZONE
TZID:UTC
BEGIN:STANDARD
TZOFFSETFROM:+0000
TZOFFSETTO:+0000
TZNAME:UTC
DTSTART:20240101T000000
END:STANDARD
END:VTIMEZONE
BEGIN:VEVENT
DTSTART;TZID=UTC:20250611T093000
DTEND;TZID=UTC:20250611T113000
DTSTAMP:20260424T114139
CREATED:20250528T183259Z
LAST-MODIFIED:20250528T183259Z
UID:10554-1749634200-1749641400@eastlincolnalliance.com
SUMMARY:Mugs & Mingling
DESCRIPTION:All ladies are invited join us at the Parsonage Wednesday\, June 11th for Mugs and Mingling.  We will enjoy heart to heart chats and viewing Pastor Randy’s lovely flowers together. \nBring a lawn chair and your mug full of whatever goodness you enjoy!
URL:https://eastlincolnalliance.com/event/mugs-mingling-6/
LOCATION:Parsonage Flower Gardens\, 735 70th Ave\, Amery\, WV\, 54001\, United States
END:VEVENT
END:VCALENDAR