BEGIN:VCALENDAR
VERSION:2.0
PRODID:-//East Lincoln Alliance Church - ECPv6.15.20//NONSGML v1.0//EN
CALSCALE:GREGORIAN
METHOD:PUBLISH
X-ORIGINAL-URL:https://eastlincolnalliance.com
X-WR-CALDESC:Events for East Lincoln Alliance Church
REFRESH-INTERVAL;VALUE=DURATION:PT1H
X-Robots-Tag:noindex
X-PUBLISHED-TTL:PT1H
BEGIN:VTIMEZONE
TZID:UTC
BEGIN:STANDARD
TZOFFSETFROM:+0000
TZOFFSETTO:+0000
TZNAME:UTC
DTSTART:20240101T000000
END:STANDARD
END:VTIMEZONE
BEGIN:VEVENT
DTSTART;VALUE=DATE:20250607
DTEND;VALUE=DATE:20250609
DTSTAMP:20260424T114141
CREATED:20250412T164317Z
LAST-MODIFIED:20250412T164317Z
UID:10419-1749254400-1749427199@eastlincolnalliance.com
SUMMARY:Tables & Chairs Rented
DESCRIPTION:Anna Ochoa
URL:https://eastlincolnalliance.com/event/tables-chairs-rented-3/
LOCATION:WI
END:VEVENT
BEGIN:VEVENT
DTSTART;TZID=UTC:20250608T084500
DTEND;TZID=UTC:20250608T094500
DTSTAMP:20260424T114141
CREATED:20250307T193950Z
LAST-MODIFIED:20250307T193950Z
UID:10321-1749372300-1749375900@eastlincolnalliance.com
SUMMARY:Discipleship Hour
DESCRIPTION:Join us for Discipleship Hour from 8:45-9:45am.  All 6th grade and up are invited.
URL:https://eastlincolnalliance.com/event/discipleship-hour-58/
LOCATION:East Lincoln Alliance Church\, 735 70th Avenue\, Amery\, WI\, 54001\, United States
END:VEVENT
BEGIN:VEVENT
DTSTART;TZID=UTC:20250608T100000
DTEND;TZID=UTC:20250608T111500
DTSTAMP:20260424T114141
CREATED:20250307T194718Z
LAST-MODIFIED:20250307T194718Z
UID:10347-1749376800-1749381300@eastlincolnalliance.com
SUMMARY:Worship Service
DESCRIPTION:We welcome you to our regular worship service every Sunday @ 10:00am.\n\n\n\nWe offer the following services for kids during the Worship Service: \nEarly Childhood care for 1-3 year olds in the East Wing \n4 years old-Kindergarten in the West Wing (Discovery Land) \n1st-5th Grade in the East Wing (Discovery Land)
URL:https://eastlincolnalliance.com/event/worship-service-154/
LOCATION:East Lincoln Alliance Church\, 735 70th Avenue\, Amery\, WI\, 54001\, United States
END:VEVENT
BEGIN:VEVENT
DTSTART;TZID=UTC:20250608T113000
DTEND;TZID=UTC:20250608T133000
DTSTAMP:20260424T114141
CREATED:20250505T145019Z
LAST-MODIFIED:20250505T145019Z
UID:10498-1749382200-1749389400@eastlincolnalliance.com
SUMMARY:Volunteer Appreciation Cookout & Potluck
DESCRIPTION:Join Us for a Heartfelt Thank You Celebration! \nPlease join us for our Annual Volunteer Appreciation Cookout & Potluck\nSunday\, June 8th (following the service) \nWe’ll provide the main meat – bring your favorite side dish or dessert to share! Whether you’ve volunteered once or a hundred times\, you’re an essential part of our ministry. Come enjoy good food\, warm fellowship\, and our heartfelt appreciation for all you do.
URL:https://eastlincolnalliance.com/event/volunteer-appreciation-cookout-potluck/
LOCATION:East Lincoln Alliance Church\, 735 70th Avenue\, Amery\, WI\, 54001\, United States
END:VEVENT
END:VCALENDAR