BEGIN:VCALENDAR
VERSION:2.0
PRODID:-//East Lincoln Alliance Church - ECPv6.15.20//NONSGML v1.0//EN
CALSCALE:GREGORIAN
METHOD:PUBLISH
X-ORIGINAL-URL:https://eastlincolnalliance.com
X-WR-CALDESC:Events for East Lincoln Alliance Church
REFRESH-INTERVAL;VALUE=DURATION:PT1H
X-Robots-Tag:noindex
X-PUBLISHED-TTL:PT1H
BEGIN:VTIMEZONE
TZID:UTC
BEGIN:STANDARD
TZOFFSETFROM:+0000
TZOFFSETTO:+0000
TZNAME:UTC
DTSTART:20240101T000000
END:STANDARD
END:VTIMEZONE
BEGIN:VEVENT
DTSTART;VALUE=DATE:20250522
DTEND;VALUE=DATE:20250526
DTSTAMP:20260424T130941
CREATED:20250412T164152Z
LAST-MODIFIED:20250418T183352Z
UID:10417-1747872000-1748217599@eastlincolnalliance.com
SUMMARY:Tables & Chairs Rented
DESCRIPTION:Laura Deems
URL:https://eastlincolnalliance.com/event/tables-chairs-rented-2/
LOCATION:WI
END:VEVENT
BEGIN:VEVENT
DTSTART;TZID=UTC:20250522T120000
DTEND;TZID=UTC:20250522T180000
DTSTAMP:20260424T130941
CREATED:20250505T145822Z
LAST-MODIFIED:20250505T145930Z
UID:10504-1747915200-1747936800@eastlincolnalliance.com
SUMMARY:Missions Garage Sale
DESCRIPTION:As you dive into your spring cleaning\, remember to think Missions! Jeff & Josje Ditschler are hosting a Garage Sale Fundraiser at their home (251 George St\, Amery) over Memorial Weekend\, and we’re calling on you to help make it a success! \nThursday\, May 22nd 12-6pm\nFriday\, May 23rd 9am-5pm\nSaturday\, May 24th 9am-12pm \nWe are accepting gently used\, clean items for the sale. Please note\, we are not accepting clothing items. This is a great opportunity to declutter\, donate\, and support a meaningful cause! \nYour donations will help fund our missions\, so let’s work together to make a difference! Thank you for your support! \nFor more information\, please contact Wendy Bachman or Mary Schussman.
URL:https://eastlincolnalliance.com/event/missions-garage-sale/
LOCATION:Jeff & Josje Ditschler’s\, 251 George St\, Amery\, WI\, 54001\, United States
END:VEVENT
END:VCALENDAR