BEGIN:VCALENDAR
VERSION:2.0
PRODID:-//East Lincoln Alliance Church - ECPv6.15.20//NONSGML v1.0//EN
CALSCALE:GREGORIAN
METHOD:PUBLISH
X-ORIGINAL-URL:https://eastlincolnalliance.com
X-WR-CALDESC:Events for East Lincoln Alliance Church
REFRESH-INTERVAL;VALUE=DURATION:PT1H
X-Robots-Tag:noindex
X-PUBLISHED-TTL:PT1H
BEGIN:VTIMEZONE
TZID:UTC
BEGIN:STANDARD
TZOFFSETFROM:+0000
TZOFFSETTO:+0000
TZNAME:UTC
DTSTART:20240101T000000
END:STANDARD
END:VTIMEZONE
BEGIN:VEVENT
DTSTART;TZID=UTC:20250521T180000
DTEND;TZID=UTC:20250521T200000
DTSTAMP:20260424T130849
CREATED:20250317T140731Z
LAST-MODIFIED:20250317T140731Z
UID:10381-1747850400-1747857600@eastlincolnalliance.com
SUMMARY:Youth Awards Night
DESCRIPTION:Parents and families are invited to Awards Night for Youth Group from 6-8pm on Wednesday\, May 21st. Goofy and meaningful awards will be presented to your student(s). After the awards\, we will have ice cream and dessert.
URL:https://eastlincolnalliance.com/event/youth-awards-night/
LOCATION:East Lincoln Alliance Church\, 735 70th Avenue\, Amery\, WI\, 54001\, United States
END:VEVENT
BEGIN:VEVENT
DTSTART;TZID=UTC:20250521T180000
DTEND;TZID=UTC:20250521T200000
DTSTAMP:20260424T130849
CREATED:20250418T185828Z
LAST-MODIFIED:20250418T185828Z
UID:10468-1747850400-1747857600@eastlincolnalliance.com
SUMMARY:Son Seekers
DESCRIPTION:Son Seekers is a program for K-5th graders.  Programming is 6-8pm every Wednesday at East Lincoln Alliance Church. We will have games\, stories\, songs\, crafts.
URL:https://eastlincolnalliance.com/event/son-seekers-52/
LOCATION:East Lincoln Alliance Church\, 735 70th Avenue\, Amery\, WI\, 54001\, United States
END:VEVENT
BEGIN:VEVENT
DTSTART;TZID=UTC:20250521T180000
DTEND;TZID=UTC:20250521T200000
DTSTAMP:20260424T130849
CREATED:20250505T153411Z
LAST-MODIFIED:20250505T153411Z
UID:10512-1747850400-1747857600@eastlincolnalliance.com
SUMMARY:Youth Awards Night
DESCRIPTION:Parents and families are invited to Awards Night for Youth Group from 6-8pm on Wednesday\, May 21st.  Goofy and meaningful awards will be presented to your student(s).  After the awards\, we will have ice cream and dessert.
URL:https://eastlincolnalliance.com/event/youth-awards-night-2/
LOCATION:East Lincoln Alliance Church\, 735 70th Avenue\, Amery\, WI\, 54001\, United States
END:VEVENT
END:VCALENDAR