BEGIN:VCALENDAR
VERSION:2.0
PRODID:-//East Lincoln Alliance Church - ECPv6.15.20//NONSGML v1.0//EN
CALSCALE:GREGORIAN
METHOD:PUBLISH
X-WR-CALNAME:East Lincoln Alliance Church
X-ORIGINAL-URL:https://eastlincolnalliance.com
X-WR-CALDESC:Events for East Lincoln Alliance Church
REFRESH-INTERVAL;VALUE=DURATION:PT1H
X-Robots-Tag:noindex
X-PUBLISHED-TTL:PT1H
BEGIN:VTIMEZONE
TZID:UTC
BEGIN:STANDARD
TZOFFSETFROM:+0000
TZOFFSETTO:+0000
TZNAME:UTC
DTSTART:20240101T000000
END:STANDARD
END:VTIMEZONE
BEGIN:VEVENT
DTSTART;VALUE=DATE:20250516
DTEND;VALUE=DATE:20250519
DTSTAMP:20260424T130950
CREATED:20250331T153400Z
LAST-MODIFIED:20250331T153409Z
UID:10396-1747353600-1747612799@eastlincolnalliance.com
SUMMARY:Tables and chairs rented
DESCRIPTION:Stone
URL:https://eastlincolnalliance.com/event/tables-and-chairs-rented-3/
LOCATION:WI
END:VEVENT
BEGIN:VEVENT
DTSTART;TZID=UTC:20250516T180000
DTEND;TZID=UTC:20250516T200000
DTSTAMP:20260424T130950
CREATED:20250221T182800Z
LAST-MODIFIED:20250221T182800Z
UID:10254-1747418400-1747425600@eastlincolnalliance.com
SUMMARY:Grace Marriage
DESCRIPTION:
URL:https://eastlincolnalliance.com/event/grace-marriage-4/
LOCATION:East Lincoln Alliance Church\, 735 70th Avenue\, Amery\, WI\, 54001\, United States
END:VEVENT
END:VCALENDAR