BEGIN:VCALENDAR
VERSION:2.0
PRODID:-//East Lincoln Alliance Church - ECPv6.15.20//NONSGML v1.0//EN
CALSCALE:GREGORIAN
METHOD:PUBLISH
X-ORIGINAL-URL:https://eastlincolnalliance.com
X-WR-CALDESC:Events for East Lincoln Alliance Church
REFRESH-INTERVAL;VALUE=DURATION:PT1H
X-Robots-Tag:noindex
X-PUBLISHED-TTL:PT1H
BEGIN:VTIMEZONE
TZID:UTC
BEGIN:STANDARD
TZOFFSETFROM:+0000
TZOFFSETTO:+0000
TZNAME:UTC
DTSTART:20240101T000000
END:STANDARD
END:VTIMEZONE
BEGIN:VEVENT
DTSTART;TZID=UTC:20250514T090000
DTEND;TZID=UTC:20250514T160000
DTSTAMP:20260424T130850
CREATED:20250505T160357Z
LAST-MODIFIED:20250505T160357Z
UID:10516-1747213200-1747238400@eastlincolnalliance.com
SUMMARY:Women's Craft Day
DESCRIPTION:Women are invited to join on Wednesday\, May 14th 9am-4pm for a day of crafting and fellowship.  Bring whatever project you are working on or just come and visit! \nWe will be meeting in the East Wing Discovery Land room.  Bring a lunch. \nContact Julie Anderson if you have questions or would like to host a craft day. 715-607-8022
URL:https://eastlincolnalliance.com/event/womens-craft-day-35/
LOCATION:East Lincoln Alliance Church\, 735 70th Avenue\, Amery\, WI\, 54001\, United States
END:VEVENT
BEGIN:VEVENT
DTSTART;TZID=UTC:20250514T180000
DTEND;TZID=UTC:20250514T200000
DTSTAMP:20260424T130850
CREATED:20250418T185630Z
LAST-MODIFIED:20250418T185630Z
UID:10464-1747245600-1747252800@eastlincolnalliance.com
SUMMARY:Recharge
DESCRIPTION:All students 6-12th grade are invited to attend.  Make sure to invite your friends!
URL:https://eastlincolnalliance.com/event/recharge-112/
LOCATION:East Lincoln Alliance Church\, 735 70th Avenue\, Amery\, WI\, 54001\, United States
END:VEVENT
BEGIN:VEVENT
DTSTART;TZID=UTC:20250514T180000
DTEND;TZID=UTC:20250514T200000
DTSTAMP:20260424T130850
CREATED:20250418T185738Z
LAST-MODIFIED:20250418T185738Z
UID:10466-1747245600-1747252800@eastlincolnalliance.com
SUMMARY:Son Seekers
DESCRIPTION:Son Seekers is a program for K-5th graders.  Programming is 6-8pm every Wednesday at East Lincoln Alliance Church. We will have games\, stories\, songs\, crafts.
URL:https://eastlincolnalliance.com/event/son-seekers-51/
LOCATION:East Lincoln Alliance Church\, 735 70th Avenue\, Amery\, WI\, 54001\, United States
END:VEVENT
END:VCALENDAR