BEGIN:VCALENDAR
VERSION:2.0
PRODID:-//East Lincoln Alliance Church - ECPv6.15.20//NONSGML v1.0//EN
CALSCALE:GREGORIAN
METHOD:PUBLISH
X-ORIGINAL-URL:https://eastlincolnalliance.com
X-WR-CALDESC:Events for East Lincoln Alliance Church
REFRESH-INTERVAL;VALUE=DURATION:PT1H
X-Robots-Tag:noindex
X-PUBLISHED-TTL:PT1H
BEGIN:VTIMEZONE
TZID:UTC
BEGIN:STANDARD
TZOFFSETFROM:+0000
TZOFFSETTO:+0000
TZNAME:UTC
DTSTART:20240101T000000
END:STANDARD
END:VTIMEZONE
BEGIN:VEVENT
DTSTART;TZID=UTC:20250502T170000
DTEND;TZID=UTC:20250502T200000
DTSTAMP:20260424T130849
CREATED:20250421T130612Z
LAST-MODIFIED:20250421T130612Z
UID:10480-1746205200-1746216000@eastlincolnalliance.com
SUMMARY:Church Reserved
DESCRIPTION:Tresta Andren – Dinners for Six Hostess
URL:https://eastlincolnalliance.com/event/church-reserved/
LOCATION:East Lincoln Alliance Church\, 735 70th Avenue\, Amery\, WI\, 54001\, United States
END:VEVENT
BEGIN:VEVENT
DTSTART;TZID=UTC:20250502T180000
DTEND;TZID=UTC:20250502T203000
DTSTAMP:20260424T130849
CREATED:20250117T190526Z
LAST-MODIFIED:20250117T190526Z
UID:10168-1746208800-1746217800@eastlincolnalliance.com
SUMMARY:Dinners for Six
DESCRIPTION:All women are invited to gather and grow together at our next Dinners for Six.  Sign up to be a hostess or a guest for Friday\, May 2nd at 6pm.
URL:https://eastlincolnalliance.com/event/dinners-for-six-4/
LOCATION:WI
END:VEVENT
END:VCALENDAR