BEGIN:VCALENDAR
VERSION:2.0
PRODID:-//East Lincoln Alliance Church - ECPv6.15.20//NONSGML v1.0//EN
CALSCALE:GREGORIAN
METHOD:PUBLISH
X-ORIGINAL-URL:https://eastlincolnalliance.com
X-WR-CALDESC:Events for East Lincoln Alliance Church
REFRESH-INTERVAL;VALUE=DURATION:PT1H
X-Robots-Tag:noindex
X-PUBLISHED-TTL:PT1H
BEGIN:VTIMEZONE
TZID:UTC
BEGIN:STANDARD
TZOFFSETFROM:+0000
TZOFFSETTO:+0000
TZNAME:UTC
DTSTART:20240101T000000
END:STANDARD
END:VTIMEZONE
BEGIN:VEVENT
DTSTART;TZID=UTC:20250501T100000
DTEND;TZID=UTC:20250501T110000
DTSTAMP:20260424T130940
CREATED:20250414T171205Z
LAST-MODIFIED:20250414T171411Z
UID:10425-1746093600-1746097200@eastlincolnalliance.com
SUMMARY:National Day of Prayer - Prayer Walk
DESCRIPTION:“Lift Up the Word – Light Up the World”\n2 Samuel 22:29 – “You\, Lord\, are my lamp; the Lord turns my darkness into light.” \nJoin us as we unite with believers across the nation to seek God in prayer for our leaders\, communities\, and world. \nWe are offering multiple opportunities throughout the day for you to join: \n\n\n10-11am at Soo Line Park in Amery for a prayer walk \n\n\n2-4pm \n\n\n6-8pm at ELAC for a time of prayer \n\n\nLet’s come together in faith and lift our voices in one accord. Prayer changes things!
URL:https://eastlincolnalliance.com/event/national-day-of-prayer-prayer-walk/
LOCATION:Soo Line Park\, 107 Center St\, Amery\, WI\, 54001\, United States
END:VEVENT
BEGIN:VEVENT
DTSTART;TZID=UTC:20250501T140000
DTEND;TZID=UTC:20250501T160000
DTSTAMP:20260424T130940
CREATED:20250414T171516Z
LAST-MODIFIED:20250414T171516Z
UID:10429-1746108000-1746115200@eastlincolnalliance.com
SUMMARY:National Day of Prayer - Prayer
DESCRIPTION:“Lift Up the Word – Light Up the World”\n2 Samuel 22:29 – “You\, Lord\, are my lamp; the Lord turns my darkness into light.” \nJoin us as we unite with believers across the nation to seek God in prayer for our leaders\, communities\, and world. \nWe are offering multiple opportunities throughout the day for you to join: \n\n\n10-11am at Soo Line Park in Amery for a prayer walk \n\n\n2-4pm \n\n\n6-8pm at ELAC for a time of prayer \n\n\nLet’s come together in faith and lift our voices in one accord. Prayer changes things!
URL:https://eastlincolnalliance.com/event/national-day-of-prayer-prayer/
LOCATION:East Lincoln Alliance Church\, 735 70th Avenue\, Amery\, WI\, 54001\, United States
END:VEVENT
BEGIN:VEVENT
DTSTART;TZID=UTC:20250501T180000
DTEND;TZID=UTC:20250501T200000
DTSTAMP:20260424T130940
CREATED:20250414T171549Z
LAST-MODIFIED:20250414T171549Z
UID:10431-1746122400-1746129600@eastlincolnalliance.com
SUMMARY:National Day of Prayer - Prayer
DESCRIPTION:“Lift Up the Word – Light Up the World”\n2 Samuel 22:29 – “You\, Lord\, are my lamp; the Lord turns my darkness into light.” \nJoin us as we unite with believers across the nation to seek God in prayer for our leaders\, communities\, and world. \nWe are offering multiple opportunities throughout the day for you to join: \n\n\n10-11am at Soo Line Park in Amery for a prayer walk \n\n\n2-4pm \n\n\n6-8pm at ELAC for a time of prayer \n\n\nLet’s come together in faith and lift our voices in one accord. Prayer changes things!
URL:https://eastlincolnalliance.com/event/national-day-of-prayer-prayer-2/
LOCATION:East Lincoln Alliance Church\, 735 70th Avenue\, Amery\, WI\, 54001\, United States
END:VEVENT
END:VCALENDAR