BEGIN:VCALENDAR
VERSION:2.0
PRODID:-//East Lincoln Alliance Church - ECPv6.15.20//NONSGML v1.0//EN
CALSCALE:GREGORIAN
METHOD:PUBLISH
X-WR-CALNAME:East Lincoln Alliance Church
X-ORIGINAL-URL:https://eastlincolnalliance.com
X-WR-CALDESC:Events for East Lincoln Alliance Church
REFRESH-INTERVAL;VALUE=DURATION:PT1H
X-Robots-Tag:noindex
X-PUBLISHED-TTL:PT1H
BEGIN:VTIMEZONE
TZID:UTC
BEGIN:STANDARD
TZOFFSETFROM:+0000
TZOFFSETTO:+0000
TZNAME:UTC
DTSTART:20240101T000000
END:STANDARD
END:VTIMEZONE
BEGIN:VEVENT
DTSTART;TZID=UTC:20250418T190000
DTEND;TZID=UTC:20250418T200000
DTSTAMP:20260424T143511
CREATED:20250318T170756Z
LAST-MODIFIED:20250318T170756Z
UID:10389-1745002800-1745006400@eastlincolnalliance.com
SUMMARY:Good Friday Service
DESCRIPTION:Amery Free Lutheran Church (647 113th St\, Amery) will be hosting the Community Good Friday Service on Friday\, April 18th at 7:00pm. All are welcome to attend. \nJoin together with other churches as we begin our Easter celebrations.
URL:https://eastlincolnalliance.com/event/good-friday-service-2/
LOCATION:WI
END:VEVENT
END:VCALENDAR