BEGIN:VCALENDAR
VERSION:2.0
PRODID:-//East Lincoln Alliance Church - ECPv6.15.20//NONSGML v1.0//EN
CALSCALE:GREGORIAN
METHOD:PUBLISH
X-WR-CALNAME:East Lincoln Alliance Church
X-ORIGINAL-URL:https://eastlincolnalliance.com
X-WR-CALDESC:Events for East Lincoln Alliance Church
REFRESH-INTERVAL;VALUE=DURATION:PT1H
X-Robots-Tag:noindex
X-PUBLISHED-TTL:PT1H
BEGIN:VTIMEZONE
TZID:UTC
BEGIN:STANDARD
TZOFFSETFROM:+0000
TZOFFSETTO:+0000
TZNAME:UTC
DTSTART:20240101T000000
END:STANDARD
END:VTIMEZONE
BEGIN:VEVENT
DTSTART;VALUE=DATE:20250322
DTEND;VALUE=DATE:20250330
DTSTAMP:20260424T154845
CREATED:20250307T195303Z
LAST-MODIFIED:20250307T195303Z
UID:10359-1742601600-1743292799@eastlincolnalliance.com
SUMMARY:Mexico Missions Trip
DESCRIPTION:
URL:https://eastlincolnalliance.com/event/mexico-missions-trip/
LOCATION:WI
END:VEVENT
BEGIN:VEVENT
DTSTART;TZID=UTC:20250326T090000
DTEND;TZID=UTC:20250326T160000
DTSTAMP:20260424T154845
CREATED:20250317T140832Z
LAST-MODIFIED:20250317T140832Z
UID:10383-1742979600-1743004800@eastlincolnalliance.com
SUMMARY:Women's Craft Day
DESCRIPTION:Women are invited to join on Wednesday\, March 26th 9am-4pm for a day of crafting and fellowship. Bring whatever project you are working on or just come and visit!\n\nNEW! We will be teaching beginning knitting for those interested.\n\nWe will be meeting at Jolene Wester’s (1854 190th St\, Centuria). Pack a lunch.\nContact Julie Anderson if you have questions or would like to host a craft day. 715-607-8022
URL:https://eastlincolnalliance.com/event/womens-craft-day-33/
LOCATION:Jolene Wester’s
END:VEVENT
BEGIN:VEVENT
DTSTART;TZID=UTC:20250326T170000
DTEND;TZID=UTC:20250326T203000
DTSTAMP:20260424T154845
CREATED:20250318T170900Z
LAST-MODIFIED:20250318T170900Z
UID:10391-1743008400-1743021000@eastlincolnalliance.com
SUMMARY:Youth Game Night
DESCRIPTION:All 6th-12th graders are invited to a youth game night on Wednesday\, March 26th from 5-8:30pm. Chili and soda will be provided\, but please bring either sour cream\, shredded cheese or tortilla chips to go with the meal and let Pete Hite know what you are planning to bring (715-245-9230). \nAt least two adults are needed to help on this night\, if you are able to help\, please contact Pete Hite. Preferably a man and a woman. \nBring a game to share\, or a football\, soccer ball to play outside.
URL:https://eastlincolnalliance.com/event/youth-game-night/
LOCATION:East Lincoln Alliance Church\, 735 70th Avenue\, Amery\, WI\, 54001\, United States
END:VEVENT
END:VCALENDAR