BEGIN:VCALENDAR
VERSION:2.0
PRODID:-//East Lincoln Alliance Church - ECPv6.15.20//NONSGML v1.0//EN
CALSCALE:GREGORIAN
METHOD:PUBLISH
X-WR-CALNAME:East Lincoln Alliance Church
X-ORIGINAL-URL:https://eastlincolnalliance.com
X-WR-CALDESC:Events for East Lincoln Alliance Church
REFRESH-INTERVAL;VALUE=DURATION:PT1H
X-Robots-Tag:noindex
X-PUBLISHED-TTL:PT1H
BEGIN:VTIMEZONE
TZID:UTC
BEGIN:STANDARD
TZOFFSETFROM:+0000
TZOFFSETTO:+0000
TZNAME:UTC
DTSTART:20230101T000000
END:STANDARD
END:VTIMEZONE
BEGIN:VEVENT
DTSTART;TZID=UTC:20241125T180000
DTEND;TZID=UTC:20241125T203000
DTSTAMP:20260424T210600
CREATED:20240819T220401Z
LAST-MODIFIED:20240819T220401Z
UID:9681-1732557600-1732566600@eastlincolnalliance.com
SUMMARY:Bible Quiz Practice
DESCRIPTION:Junior quizzing 6-7pm (5th grade and younger) \nRegular quizzing 7-8:30pm (6th-12th grade) \nWhether you’re a seasoned quizzing champion or new to the world of Bible trivia\, this event promises fun and friendly competition. Come challenge your knowledge\, deepen your understanding of Scripture\, and connect with fellow Bible enthusiasts.
URL:https://eastlincolnalliance.com/event/bible-quiz-practice-13/
LOCATION:East Lincoln Alliance Church\, 735 70th Avenue\, Amery\, WI\, 54001\, United States
END:VEVENT
END:VCALENDAR