BEGIN:VCALENDAR
VERSION:2.0
PRODID:-//East Lincoln Alliance Church - ECPv6.15.20//NONSGML v1.0//EN
CALSCALE:GREGORIAN
METHOD:PUBLISH
X-ORIGINAL-URL:https://eastlincolnalliance.com
X-WR-CALDESC:Events for East Lincoln Alliance Church
REFRESH-INTERVAL;VALUE=DURATION:PT1H
X-Robots-Tag:noindex
X-PUBLISHED-TTL:PT1H
BEGIN:VTIMEZONE
TZID:UTC
BEGIN:STANDARD
TZOFFSETFROM:+0000
TZOFFSETTO:+0000
TZNAME:UTC
DTSTART:20230101T000000
END:STANDARD
END:VTIMEZONE
BEGIN:VEVENT
DTSTART;TZID=UTC:20240918T090000
DTEND;TZID=UTC:20240918T160000
DTSTAMP:20260425T010540
CREATED:20240909T135501Z
LAST-MODIFIED:20240909T135501Z
UID:9762-1726650000-1726675200@eastlincolnalliance.com
SUMMARY:Women's Craft Day
DESCRIPTION:Women are invited to join on Wednesday\, September 18th 9am-4pm for a day of crafting and fellowship.  Bring whatever project you are working on\, or just come and visit!  We will be meeting at Wendy Bachman’s.  Pack a lunch. \nContact Julie Anderson if you have questions or would like to host a craft day. 715-607-8022
URL:https://eastlincolnalliance.com/event/womens-craft-day-29/
LOCATION:Wendy Bachman’s
END:VEVENT
BEGIN:VEVENT
DTSTART;TZID=UTC:20240918T151500
DTEND;TZID=UTC:20240918T163000
DTSTAMP:20260425T010540
CREATED:20240907T155518Z
LAST-MODIFIED:20240907T155518Z
UID:9733-1726672500-1726677000@eastlincolnalliance.com
SUMMARY:After School Good News Club
DESCRIPTION:After School Good News Club starts on Wednesday\, September 11th at Lien Elementary School (Amery) right after school (3:15pm) until 4:30pm and will continue every Wednesday that Amery Schools are in session. \nGood News Club is open to students Kindergarten to 5th grade. Students attending the Intermediate School should ride the transfer bus to the Elementary School. Registration Forms must be filled out (below).   Questions? Contact Mary Schussman. \neastlincolnalliance.com/ninja-forms/10okpn/
URL:https://eastlincolnalliance.com/event/after-school-good-news-club-60/
LOCATION:Lien Elementary School\, 469 Minneapolis Ave S\, Amery\, WI\, 54001\, United States
END:VEVENT
BEGIN:VEVENT
DTSTART;TZID=UTC:20240918T180000
DTEND;TZID=UTC:20240918T200000
DTSTAMP:20260425T010540
CREATED:20240805T141417Z
LAST-MODIFIED:20240805T141417Z
UID:9574-1726682400-1726689600@eastlincolnalliance.com
SUMMARY:Recharge
DESCRIPTION:All students 6-12th grade are invited to attend.  Make sure to invite your friends!
URL:https://eastlincolnalliance.com/event/recharge-84/
LOCATION:East Lincoln Alliance Church\, 735 70th Avenue\, Amery\, WI\, 54001\, United States
END:VEVENT
BEGIN:VEVENT
DTSTART;TZID=UTC:20240918T180000
DTEND;TZID=UTC:20240918T200000
DTSTAMP:20260425T010540
CREATED:20240805T142515Z
LAST-MODIFIED:20240805T142515Z
UID:9602-1726682400-1726689600@eastlincolnalliance.com
SUMMARY:Son Seekers
DESCRIPTION:Son Seekers is a program for K-5th graders.  Programming is 6-8pm every Wednesday at East Lincoln Alliance Church. We will have games\, stories\, songs\, crafts.
URL:https://eastlincolnalliance.com/event/son-seekers-21/
LOCATION:East Lincoln Alliance Church\, 735 70th Avenue\, Amery\, WI\, 54001\, United States
END:VEVENT
END:VCALENDAR