BEGIN:VCALENDAR
VERSION:2.0
PRODID:-//East Lincoln Alliance Church - ECPv6.15.20//NONSGML v1.0//EN
CALSCALE:GREGORIAN
METHOD:PUBLISH
X-ORIGINAL-URL:https://eastlincolnalliance.com
X-WR-CALDESC:Events for East Lincoln Alliance Church
REFRESH-INTERVAL;VALUE=DURATION:PT1H
X-Robots-Tag:noindex
X-PUBLISHED-TTL:PT1H
BEGIN:VTIMEZONE
TZID:UTC
BEGIN:STANDARD
TZOFFSETFROM:+0000
TZOFFSETTO:+0000
TZNAME:UTC
DTSTART:20230101T000000
END:STANDARD
END:VTIMEZONE
BEGIN:VEVENT
DTSTART;TZID=UTC:20240825T084500
DTEND;TZID=UTC:20240825T094500
DTSTAMP:20260425T021735
CREATED:20240722T145833Z
LAST-MODIFIED:20240722T145833Z
UID:9525-1724575500-1724579100@eastlincolnalliance.com
SUMMARY:Discipleship Hour
DESCRIPTION:Join us for Discipleship Hour from 8:45-9:45am.  All 6th grade and up are invited.
URL:https://eastlincolnalliance.com/event/discipleship-hour-16/
LOCATION:East Lincoln Alliance Church\, 735 70th Avenue\, Amery\, WI\, 54001\, United States
END:VEVENT
BEGIN:VEVENT
DTSTART;TZID=UTC:20240825T100000
DTEND;TZID=UTC:20240825T111500
DTSTAMP:20260425T021735
CREATED:20240722T150331Z
LAST-MODIFIED:20240722T150331Z
UID:9543-1724580000-1724584500@eastlincolnalliance.com
SUMMARY:Worship Service
DESCRIPTION:We welcome you to our regular worship service every Sunday @ 10:00am.\n\n\n\nWe offer the following services for kids during the Worship Service: \nEarly Childhood care for 1-3 year olds in the East Wing \n4 years old-Kindergarten in the West Wing (Discovery Land) \n1st-5th Grade in the East Wing (Discovery Land)
URL:https://eastlincolnalliance.com/event/worship-service-114/
LOCATION:East Lincoln Alliance Church\, 735 70th Avenue\, Amery\, WI\, 54001\, United States
END:VEVENT
BEGIN:VEVENT
DTSTART;TZID=UTC:20240825T113000
DTEND;TZID=UTC:20240825T133000
DTSTAMP:20260425T021735
CREATED:20240805T150736Z
LAST-MODIFIED:20240805T150736Z
UID:9628-1724585400-1724592600@eastlincolnalliance.com
SUMMARY:End of Summer Picnic/Potluck
DESCRIPTION:All are invited to an End of Summer Picnic/Potluck on Sunday\, August 25th after the Worship Service. Please bring a dish to share! \n  \nCulinary Group 1 will be in charge of the potluck duties. \nJulie Anderson Gen Richter \nWendy Bachman Mara Stone \nLucy Carlson Karalee Tollakson \nYvette Fiedler Marcia Wagner \nHeidi Frerichs Liz Waltzer \nJessica Garrett Jolene Wester \nStephanie Jansen Jessica Wittkop
URL:https://eastlincolnalliance.com/event/end-of-summer-picnic-potluck/
LOCATION:East Lincoln Alliance Church\, 735 70th Avenue\, Amery\, WI\, 54001\, United States
END:VEVENT
END:VCALENDAR