BEGIN:VCALENDAR
VERSION:2.0
PRODID:-//East Lincoln Alliance Church - ECPv6.15.20//NONSGML v1.0//EN
CALSCALE:GREGORIAN
METHOD:PUBLISH
X-ORIGINAL-URL:https://eastlincolnalliance.com
X-WR-CALDESC:Events for East Lincoln Alliance Church
REFRESH-INTERVAL;VALUE=DURATION:PT1H
X-Robots-Tag:noindex
X-PUBLISHED-TTL:PT1H
BEGIN:VTIMEZONE
TZID:UTC
BEGIN:STANDARD
TZOFFSETFROM:+0000
TZOFFSETTO:+0000
TZNAME:UTC
DTSTART:20230101T000000
END:STANDARD
END:VTIMEZONE
BEGIN:VEVENT
DTSTART;TZID=UTC:20240823T000000
DTEND;TZID=UTC:20240823T110000
DTSTAMP:20260425T021735
CREATED:20240810T154934Z
LAST-MODIFIED:20240810T154934Z
UID:9637-1724371200-1724410800@eastlincolnalliance.com
SUMMARY:Reserved for lock-in
DESCRIPTION:Lyla Stone
URL:https://eastlincolnalliance.com/event/reserved-for-lock-in-2/
LOCATION:East Lincoln Alliance Church\, 735 70th Avenue\, Amery\, WI\, 54001\, United States
END:VEVENT
END:VCALENDAR