BEGIN:VCALENDAR
VERSION:2.0
PRODID:-//East Lincoln Alliance Church - ECPv6.15.20//NONSGML v1.0//EN
CALSCALE:GREGORIAN
METHOD:PUBLISH
X-WR-CALNAME:East Lincoln Alliance Church
X-ORIGINAL-URL:https://eastlincolnalliance.com
X-WR-CALDESC:Events for East Lincoln Alliance Church
REFRESH-INTERVAL;VALUE=DURATION:PT1H
X-Robots-Tag:noindex
X-PUBLISHED-TTL:PT1H
BEGIN:VTIMEZONE
TZID:UTC
BEGIN:STANDARD
TZOFFSETFROM:+0000
TZOFFSETTO:+0000
TZNAME:UTC
DTSTART:20230101T000000
END:STANDARD
END:VTIMEZONE
BEGIN:VEVENT
DTSTART;TZID=UTC:20240715T093000
DTEND;TZID=UTC:20240715T120000
DTSTAMP:20260425T033158
CREATED:20240528T164844Z
LAST-MODIFIED:20240528T164844Z
UID:9358-1721035800-1721044800@eastlincolnalliance.com
SUMMARY:Summer Good News Club
DESCRIPTION:Mark your calendars for July 15-19! ELAC will be hosting a Summer Good News Club at the church from 9:30-11:30am for 5-12 year olds (or just finished 4k). There will be fun activities to share the Gospel. A light lunch will be served at 11:30am.
URL:https://eastlincolnalliance.com/event/summer-good-news-club-6/
LOCATION:East Lincoln Alliance Church\, 735 70th Avenue\, Amery\, WI\, 54001\, United States
END:VEVENT
END:VCALENDAR