BEGIN:VCALENDAR
VERSION:2.0
PRODID:-//East Lincoln Alliance Church - ECPv6.15.20//NONSGML v1.0//EN
CALSCALE:GREGORIAN
METHOD:PUBLISH
X-ORIGINAL-URL:https://eastlincolnalliance.com
X-WR-CALDESC:Events for East Lincoln Alliance Church
REFRESH-INTERVAL;VALUE=DURATION:PT1H
X-Robots-Tag:noindex
X-PUBLISHED-TTL:PT1H
BEGIN:VTIMEZONE
TZID:UTC
BEGIN:STANDARD
TZOFFSETFROM:+0000
TZOFFSETTO:+0000
TZNAME:UTC
DTSTART:20230101T000000
END:STANDARD
END:VTIMEZONE
BEGIN:VEVENT
DTSTART;TZID=UTC:20240703T140000
DTEND;TZID=UTC:20240703T190000
DTSTAMP:20260425T033155
CREATED:20240617T160640Z
LAST-MODIFIED:20240617T160640Z
UID:9434-1720015200-1720033200@eastlincolnalliance.com
SUMMARY:Tubing the Apple River
DESCRIPTION:On Wednesday\, July 3rd all are invited to tube down the Apple River! Meet at High Bridge (150th St bridge) at 2pm. We will end between 5/5:30pm at the Highway 65 bridge\, and head to Garfield Park for a hot dog meal (food will be provided). \nPlease sign up at the Information Table if you plan to tube! We also need someone to grill the hot dogs at the park before the tubers arrive – if you can help with this please let Kent know!
URL:https://eastlincolnalliance.com/event/tubing-the-apple-river/
LOCATION:WI
END:VEVENT
END:VCALENDAR