BEGIN:VCALENDAR
VERSION:2.0
PRODID:-//East Lincoln Alliance Church - ECPv6.15.20//NONSGML v1.0//EN
CALSCALE:GREGORIAN
METHOD:PUBLISH
X-WR-CALNAME:East Lincoln Alliance Church
X-ORIGINAL-URL:https://eastlincolnalliance.com
X-WR-CALDESC:Events for East Lincoln Alliance Church
REFRESH-INTERVAL;VALUE=DURATION:PT1H
X-Robots-Tag:noindex
X-PUBLISHED-TTL:PT1H
BEGIN:VTIMEZONE
TZID:UTC
BEGIN:STANDARD
TZOFFSETFROM:+0000
TZOFFSETTO:+0000
TZNAME:UTC
DTSTART:20230101T000000
END:STANDARD
END:VTIMEZONE
BEGIN:VEVENT
DTSTART;TZID=UTC:20240630T084500
DTEND;TZID=UTC:20240630T094500
DTSTAMP:20260425T033159
CREATED:20240408T145032Z
LAST-MODIFIED:20240408T145032Z
UID:9252-1719737100-1719740700@eastlincolnalliance.com
SUMMARY:Discipleship Hour
DESCRIPTION:Join us for Discipleship Hour from 8:45-9:45am.  All 6th grade and up are invited.  Childcare for 1 year old to 5th grade is available (for a small fee).
URL:https://eastlincolnalliance.com/event/discipleship-hour-9/
LOCATION:East Lincoln Alliance Church\, 735 70th Avenue\, Amery\, WI\, 54001\, United States
END:VEVENT
BEGIN:VEVENT
DTSTART;TZID=UTC:20240630T100000
DTEND;TZID=UTC:20240630T111500
DTSTAMP:20260425T033159
CREATED:20240408T144456Z
LAST-MODIFIED:20240408T144456Z
UID:9236-1719741600-1719746100@eastlincolnalliance.com
SUMMARY:Worship Service
DESCRIPTION:We welcome you to our regular worship service every Sunday @ 10:00am.\n\n\n\nWe offer the following services for kids during the Worship Service: \nEarly Childhood care for 1-3 year olds in the East Wing \n4 years old-Kindergarten in the West Wing (Discovery Land) \n1st-5th Grade in the East Wing (Discovery Land)
URL:https://eastlincolnalliance.com/event/worship-service-107/
LOCATION:East Lincoln Alliance Church\, 735 70th Avenue\, Amery\, WI\, 54001\, United States
END:VEVENT
BEGIN:VEVENT
DTSTART;TZID=UTC:20240630T113000
DTEND;TZID=UTC:20240630T120000
DTSTAMP:20260425T033159
CREATED:20240617T155838Z
LAST-MODIFIED:20240617T155838Z
UID:9430-1719747000-1719748800@eastlincolnalliance.com
SUMMARY:Hymn Sing
DESCRIPTION:Join us for a Hymn Sing on Sunday\, June 30th\, 11:30am-12pm.
URL:https://eastlincolnalliance.com/event/hymn-sing-17/
LOCATION:East Lincoln Alliance Church\, 735 70th Avenue\, Amery\, WI\, 54001\, United States
END:VEVENT
BEGIN:VEVENT
DTSTART;TZID=UTC:20240630T120000
DTEND;TZID=UTC:20240630T130000
DTSTAMP:20260425T033159
CREATED:20240617T155953Z
LAST-MODIFIED:20240617T155953Z
UID:9432-1719748800-1719752400@eastlincolnalliance.com
SUMMARY:Single Women's Fellowship
DESCRIPTION:All single women are invited to join on Sunday\, June 30th at noon at ELAC for a potluck and time of fellowship.
URL:https://eastlincolnalliance.com/event/single-womens-fellowship-16/
LOCATION:East Lincoln Alliance Church\, 735 70th Avenue\, Amery\, WI\, 54001\, United States
END:VEVENT
END:VCALENDAR