BEGIN:VCALENDAR
VERSION:2.0
PRODID:-//East Lincoln Alliance Church - ECPv6.15.20//NONSGML v1.0//EN
CALSCALE:GREGORIAN
METHOD:PUBLISH
X-ORIGINAL-URL:https://eastlincolnalliance.com
X-WR-CALDESC:Events for East Lincoln Alliance Church
REFRESH-INTERVAL;VALUE=DURATION:PT1H
X-Robots-Tag:noindex
X-PUBLISHED-TTL:PT1H
BEGIN:VTIMEZONE
TZID:UTC
BEGIN:STANDARD
TZOFFSETFROM:+0000
TZOFFSETTO:+0000
TZNAME:UTC
DTSTART:20230101T000000
END:STANDARD
END:VTIMEZONE
BEGIN:VEVENT
DTSTART;TZID=UTC:20240324T093000
DTEND;TZID=UTC:20240324T110000
DTSTAMP:20260425T110036
CREATED:20240227T163952Z
LAST-MODIFIED:20240227T163952Z
UID:9088-1711272600-1711278000@eastlincolnalliance.com
SUMMARY:Worship Service
DESCRIPTION:We welcome you to our regular worship service every Sunday @ 9:30am.\n\n\n\nWe offer the following services for kids during the Worship Service: \nEarly Childhood care for 1-3 year olds in the East Wing \n4 years old-Kindergarten in the West Wing (Discovery Land) \n1st-5th Grade in the East Wing (Discovery Land)
URL:https://eastlincolnalliance.com/event/worship-service-94/
LOCATION:East Lincoln Alliance Church\, 735 70th Avenue\, Amery\, WI\, 54001\, United States
END:VEVENT
BEGIN:VEVENT
DTSTART;TZID=UTC:20240324T110000
DTEND;TZID=UTC:20240324T113000
DTSTAMP:20260425T110036
CREATED:20240305T200514Z
LAST-MODIFIED:20240305T200514Z
UID:9135-1711278000-1711279800@eastlincolnalliance.com
SUMMARY:Hymn Sing
DESCRIPTION:Join us for a Hymn Sing on Sunday\, March 24th\, 11-11:30am.
URL:https://eastlincolnalliance.com/event/hymn-sing-15/
LOCATION:East Lincoln Alliance Church\, 735 70th Avenue\, Amery\, WI\, 54001\, United States
END:VEVENT
BEGIN:VEVENT
DTSTART;TZID=UTC:20240324T111500
DTEND;TZID=UTC:20240324T123000
DTSTAMP:20260425T110036
CREATED:20240227T165649Z
LAST-MODIFIED:20240227T165649Z
UID:9114-1711278900-1711283400@eastlincolnalliance.com
SUMMARY:"How To..." Sunday Study
DESCRIPTION:Join Perry Anderson\, Barry Iverson and esteemed colleagues on Sundays 11:15am-12:30pm in the East Wing Youth/Discovery Land room. The study will focus on different “how to” topics. This class will be in a discussion format and is intended for ages 6th grade to adult. Bring a sack lunch if you want to eat during study. \n\n\n\nEach week one topic will be discussed and likely plan is to discuss that topic after study of scripture\, commentaries\, videos\, etc. in more depth the following week or weeks depending on need.  Each student is invited to study\, explore\, ask questions of others regarding the topic to share the following week. \n\nUpcoming topics are: \nMarch 24 Time Management Part 1 \nMarch 31 Easter (no class)
URL:https://eastlincolnalliance.com/event/how-to-sunday-study-24/
LOCATION:East Lincoln Alliance Church\, 735 70th Avenue\, Amery\, WI\, 54001\, United States
END:VEVENT
BEGIN:VEVENT
DTSTART;TZID=UTC:20240324T113000
DTEND;TZID=UTC:20240324T123000
DTSTAMP:20260425T110036
CREATED:20240305T200603Z
LAST-MODIFIED:20240305T200603Z
UID:9137-1711279800-1711283400@eastlincolnalliance.com
SUMMARY:Single Women's Fellowship
DESCRIPTION:All single women are invited to join on Sunday\, March 24th at 11:30am at ELAC for a potluck and time of fellowship.
URL:https://eastlincolnalliance.com/event/single-womens-fellowship-14/
LOCATION:East Lincoln Alliance Church\, 735 70th Avenue\, Amery\, WI\, 54001\, United States
END:VEVENT
END:VCALENDAR