BEGIN:VCALENDAR
VERSION:2.0
PRODID:-//East Lincoln Alliance Church - ECPv6.15.20//NONSGML v1.0//EN
CALSCALE:GREGORIAN
METHOD:PUBLISH
X-ORIGINAL-URL:https://eastlincolnalliance.com
X-WR-CALDESC:Events for East Lincoln Alliance Church
REFRESH-INTERVAL;VALUE=DURATION:PT1H
X-Robots-Tag:noindex
X-PUBLISHED-TTL:PT1H
BEGIN:VTIMEZONE
TZID:UTC
BEGIN:STANDARD
TZOFFSETFROM:+0000
TZOFFSETTO:+0000
TZNAME:UTC
DTSTART:20230101T000000
END:STANDARD
END:VTIMEZONE
BEGIN:VEVENT
DTSTART;TZID=UTC:20240323T103000
DTEND;TZID=UTC:20240323T123000
DTSTAMP:20260425T110036
CREATED:20240227T172419Z
LAST-MODIFIED:20240227T172419Z
UID:9118-1711189800-1711197000@eastlincolnalliance.com
SUMMARY:Easter Egg Hunt
DESCRIPTION:All are invited to East Lincoln Alliance Church’s Easter Egg Hunt on Saturday\, March 23rd at 10:30am.  The event will be indoor with a puppet show\, songs\, prizes and an egg hunt! \nNo pre-registration required!  Children 5th grade and below are invited to participate in the egg hunt and prizes. \nA hotdog lunch will be provided.
URL:https://eastlincolnalliance.com/event/easter-egg-hunt-5/
LOCATION:East Lincoln Alliance Church\, 735 70th Avenue\, Amery\, WI\, 54001\, United States
END:VEVENT
END:VCALENDAR