BEGIN:VCALENDAR
VERSION:2.0
PRODID:-//East Lincoln Alliance Church - ECPv6.15.20//NONSGML v1.0//EN
CALSCALE:GREGORIAN
METHOD:PUBLISH
X-ORIGINAL-URL:https://eastlincolnalliance.com
X-WR-CALDESC:Events for East Lincoln Alliance Church
REFRESH-INTERVAL;VALUE=DURATION:PT1H
X-Robots-Tag:noindex
X-PUBLISHED-TTL:PT1H
BEGIN:VTIMEZONE
TZID:UTC
BEGIN:STANDARD
TZOFFSETFROM:+0000
TZOFFSETTO:+0000
TZNAME:UTC
DTSTART:20230101T000000
END:STANDARD
END:VTIMEZONE
BEGIN:VEVENT
DTSTART;TZID=UTC:20240208T180000
DTEND;TZID=UTC:20240208T200000
DTSTAMP:20260425T131443
CREATED:20240122T153551Z
LAST-MODIFIED:20240122T153551Z
UID:9037-1707415200-1707422400@eastlincolnalliance.com
SUMMARY:Secret Prayer Sister Reveal
DESCRIPTION:For those of you who have a secret prayer sister\, watch your mailbox! \nJoin us on Thursday evening\, February 8th @ 6:00 pm … dinner will be served. \nCome ready to bless your sister and shower her with affirmation!
URL:https://eastlincolnalliance.com/event/secret-prayer-sister-reveal-5/
LOCATION:East Lincoln Alliance Church\, 735 70th Avenue\, Amery\, WI\, 54001\, United States
END:VEVENT
END:VCALENDAR