BEGIN:VCALENDAR
VERSION:2.0
PRODID:-//East Lincoln Alliance Church - ECPv6.15.20//NONSGML v1.0//EN
CALSCALE:GREGORIAN
METHOD:PUBLISH
X-WR-CALNAME:East Lincoln Alliance Church
X-ORIGINAL-URL:https://eastlincolnalliance.com
X-WR-CALDESC:Events for East Lincoln Alliance Church
REFRESH-INTERVAL;VALUE=DURATION:PT1H
X-Robots-Tag:noindex
X-PUBLISHED-TTL:PT1H
BEGIN:VTIMEZONE
TZID:UTC
BEGIN:STANDARD
TZOFFSETFROM:+0000
TZOFFSETTO:+0000
TZNAME:UTC
DTSTART:20230101T000000
END:STANDARD
END:VTIMEZONE
BEGIN:VEVENT
DTSTART;TZID=UTC:20240204T073000
DTEND;TZID=UTC:20240204T083000
DTSTAMP:20260425T131448
CREATED:20240122T153101Z
LAST-MODIFIED:20240122T153101Z
UID:9029-1707031800-1707035400@eastlincolnalliance.com
SUMMARY:Men's Breakfast
DESCRIPTION:1st Sunday of every month.  All men/boys are invited!
URL:https://eastlincolnalliance.com/event/mens-breakfast-4/
LOCATION:East Lincoln Alliance Church\, 735 70th Avenue\, Amery\, WI\, 54001\, United States
END:VEVENT
BEGIN:VEVENT
DTSTART;TZID=UTC:20240204T093000
DTEND;TZID=UTC:20240204T110000
DTSTAMP:20260425T131448
CREATED:20231130T170833Z
LAST-MODIFIED:20231130T170833Z
UID:8826-1707039000-1707044400@eastlincolnalliance.com
SUMMARY:Worship Service
DESCRIPTION:We welcome you to our regular worship service every Sunday @ 9:30am.\n\n\n\nWe offer the following services for kids during the Worship Service: \nEarly Childhood care for 1-3 year olds in the East Wing \n4 years old-Kindergarten in the West Wing (Discovery Land) \n1st-5th Grade in the East Wing (Discovery Land)
URL:https://eastlincolnalliance.com/event/worship-service-87/
LOCATION:East Lincoln Alliance Church\, 735 70th Avenue\, Amery\, WI\, 54001\, United States
END:VEVENT
BEGIN:VEVENT
DTSTART;TZID=UTC:20240204T111500
DTEND;TZID=UTC:20240204T123000
DTSTAMP:20260425T131448
CREATED:20240116T204817Z
LAST-MODIFIED:20240116T204817Z
UID:9002-1707045300-1707049800@eastlincolnalliance.com
SUMMARY:"How To..." Sunday Study
DESCRIPTION:Join Perry Anderson\, Barry Iverson and esteemed colleagues on Sundays 11:15am-12:30pm in the East Wing Youth/Discovery Land room. The study will focus on different “how to” topics. This class will be in a discussion format and is intended for ages 6th grade to adult. Bring a sack lunch if you want to eat during study. \n\n\n\nEach week one topic will be discussed and likely plan is to discuss that topic after study of scripture\, commentaries\, videos\, etc. in more depth the following week or weeks depending on need.  Each student is invited to study\, explore\, ask questions of others regarding the topic to share the following week. \n\nUpcoming topics are: \nFeb 4 Watchfulness \nFeb 11 Annual Meeting (no class) \nFeb 18 Watchfulness \nFeb 25 Power of a parent’s blessing pt 1 \nMar 3 Power of a parent’s blessing pt 2 \nMar 10 Time management pt 1 \nMar 17\, 24 & 31 possibly no class \nApr 7 Time management pt 2 \nApr 14 How to lead a Bible study pt 1 \nApr 21 possibly no class \nApr 28 How to lead a Bible study pt 2
URL:https://eastlincolnalliance.com/event/how-to-sunday-study-16/
LOCATION:East Lincoln Alliance Church\, 735 70th Avenue\, Amery\, WI\, 54001\, United States
END:VEVENT
END:VCALENDAR