BEGIN:VCALENDAR
VERSION:2.0
PRODID:-//East Lincoln Alliance Church - ECPv6.15.20//NONSGML v1.0//EN
CALSCALE:GREGORIAN
METHOD:PUBLISH
X-ORIGINAL-URL:https://eastlincolnalliance.com
X-WR-CALDESC:Events for East Lincoln Alliance Church
REFRESH-INTERVAL;VALUE=DURATION:PT1H
X-Robots-Tag:noindex
X-PUBLISHED-TTL:PT1H
BEGIN:VTIMEZONE
TZID:UTC
BEGIN:STANDARD
TZOFFSETFROM:+0000
TZOFFSETTO:+0000
TZNAME:UTC
DTSTART:20230101T000000
END:STANDARD
END:VTIMEZONE
BEGIN:VEVENT
DTSTART;TZID=UTC:20240202T080000
DTEND;TZID=UTC:20240203T170000
DTSTAMP:20260425T121018
CREATED:20240130T145810Z
LAST-MODIFIED:20240130T145810Z
UID:9046-1706860800-1706979600@eastlincolnalliance.com
SUMMARY:Elders Retreat
DESCRIPTION:
URL:https://eastlincolnalliance.com/event/elders-retreat-2/
LOCATION:WI
END:VEVENT
END:VCALENDAR