BEGIN:VCALENDAR
VERSION:2.0
PRODID:-//East Lincoln Alliance Church - ECPv6.15.20//NONSGML v1.0//EN
CALSCALE:GREGORIAN
METHOD:PUBLISH
X-ORIGINAL-URL:https://eastlincolnalliance.com
X-WR-CALDESC:Events for East Lincoln Alliance Church
REFRESH-INTERVAL;VALUE=DURATION:PT1H
X-Robots-Tag:noindex
X-PUBLISHED-TTL:PT1H
BEGIN:VTIMEZONE
TZID:UTC
BEGIN:STANDARD
TZOFFSETFROM:+0000
TZOFFSETTO:+0000
TZNAME:UTC
DTSTART:20220101T000000
END:STANDARD
END:VTIMEZONE
BEGIN:VEVENT
DTSTART;TZID=UTC:20231210T093000
DTEND;TZID=UTC:20231210T110000
DTSTAMP:20260425T164749
CREATED:20231117T235332Z
LAST-MODIFIED:20231117T235332Z
UID:8786-1702200600-1702206000@eastlincolnalliance.com
SUMMARY:Worship Service
DESCRIPTION:We welcome you to our regular worship service every Sunday @ 9:30am.\n\n\n\nWe offer the following services for kids during the Worship Service: \nEarly Childhood care for 1-3 year olds in the East Wing \n4 years old-Kindergarten in the West Wing (Discovery Land) \n1st-5th Grade in the East Wing (Discovery Land)
URL:https://eastlincolnalliance.com/event/worship-service-78/
LOCATION:East Lincoln Alliance Church\, 735 70th Avenue\, Amery\, WI\, 54001\, United States
END:VEVENT
BEGIN:VEVENT
DTSTART;TZID=UTC:20231210T111500
DTEND;TZID=UTC:20231210T123000
DTSTAMP:20260425T164749
CREATED:20231113T153305Z
LAST-MODIFIED:20231130T172738Z
UID:8772-1702206900-1702211400@eastlincolnalliance.com
SUMMARY:"How To..." Sunday Study
DESCRIPTION:Topic: \nDecember 10 & 17 – Encourage the Hurting \nJoin Perry Anderson\, Barry Iverson and esteemed colleagues on Sundays 11:15am-12:30pm in the East Wing Youth/Discovery Land room.  The study will focus on different “how to” topics.  This class will be in a discussion format and is intended for ages 6th grade to adult.  Bring a sack lunch if you want to eat during study. \nEach week one topic will be discussed\, and likely plan is to discuss that topic after study of scripture\, commentaries\, videos\, etc. in more depth the following week or weeks depending on need.  Each student is invited to study\, explore\, ask questions of others regarding the topic to share the following week.
URL:https://eastlincolnalliance.com/event/how-to-sunday-study-10/
LOCATION:East Lincoln Alliance Church\, 735 70th Avenue\, Amery\, WI\, 54001\, United States
END:VEVENT
END:VCALENDAR