BEGIN:VCALENDAR
VERSION:2.0
PRODID:-//East Lincoln Alliance Church - ECPv6.15.20//NONSGML v1.0//EN
CALSCALE:GREGORIAN
METHOD:PUBLISH
X-ORIGINAL-URL:https://eastlincolnalliance.com
X-WR-CALDESC:Events for East Lincoln Alliance Church
REFRESH-INTERVAL;VALUE=DURATION:PT1H
X-Robots-Tag:noindex
X-PUBLISHED-TTL:PT1H
BEGIN:VTIMEZONE
TZID:UTC
BEGIN:STANDARD
TZOFFSETFROM:+0000
TZOFFSETTO:+0000
TZNAME:UTC
DTSTART:20220101T000000
END:STANDARD
END:VTIMEZONE
BEGIN:VEVENT
DTSTART;TZID=UTC:20231126T093000
DTEND;TZID=UTC:20231126T110000
DTSTAMP:20260425T154251
CREATED:20231120T161944Z
LAST-MODIFIED:20231120T161944Z
UID:8800-1700991000-1700996400@eastlincolnalliance.com
SUMMARY:Worship Service
DESCRIPTION:We welcome you to our regular worship service every Sunday @ 9:30am.\n\n\n\nWe offer the following services for kids during the Worship Service: \nEarly Childhood care for 1-3 year olds in the East Wing \n4 years old-Kindergarten in the West Wing (Discovery Land) \n1st-5th Grade in the East Wing (Discovery Land)
URL:https://eastlincolnalliance.com/event/worship-service-81/
LOCATION:East Lincoln Alliance Church\, 735 70th Avenue\, Amery\, WI\, 54001\, United States
END:VEVENT
BEGIN:VEVENT
DTSTART;TZID=UTC:20231126T110000
DTEND;TZID=UTC:20231126T113000
DTSTAMP:20260425T154251
CREATED:20231120T162200Z
LAST-MODIFIED:20231120T162200Z
UID:8804-1700996400-1700998200@eastlincolnalliance.com
SUMMARY:Hymn Sing
DESCRIPTION:Join us for a Hymn Sing on Sunday\, November 26th\, 11-11:30am.
URL:https://eastlincolnalliance.com/event/hymn-sing-12/
LOCATION:East Lincoln Alliance Church\, 735 70th Avenue\, Amery\, WI\, 54001\, United States
END:VEVENT
BEGIN:VEVENT
DTSTART;TZID=UTC:20231126T111500
DTEND;TZID=UTC:20231126T123000
DTSTAMP:20260425T154251
CREATED:20231113T153218Z
LAST-MODIFIED:20231113T153218Z
UID:8770-1700997300-1701001800@eastlincolnalliance.com
SUMMARY:"How To..." Sunday Study
DESCRIPTION:November 26th – Standing Firm in Non-Christian Circles. \nThe final topic of the year will be on December 10th & 17th and is TBD. \nJoin Perry Anderson\, Barry Iverson and esteemed colleagues on Sundays 11:15am-12:30pm in the East Wing Youth/Discovery Land room. The study will focus on different “how to” topics. This class will be in a discussion format and is intended for ages 6th grade to adult. Bring a sack lunch if you want to eat during study. \nEach week one topic will be discussed and likely plan is to discuss that topic after study of scripture\, commentaries\, videos\, etc. in more depth the following week or weeks depending on need.  Each student is invited to study\, explore\, ask questions of others regarding the topic to share the following week.
URL:https://eastlincolnalliance.com/event/how-to-sunday-study-9/
LOCATION:East Lincoln Alliance Church\, 735 70th Avenue\, Amery\, WI\, 54001\, United States
END:VEVENT
BEGIN:VEVENT
DTSTART;TZID=UTC:20231126T113000
DTEND;TZID=UTC:20231126T123000
DTSTAMP:20260425T154251
CREATED:20231120T162238Z
LAST-MODIFIED:20231120T162238Z
UID:8806-1700998200-1701001800@eastlincolnalliance.com
SUMMARY:Single Women's Fellowship
DESCRIPTION:All single women are invited to join on Sunday\, November 26th at 11:30am at ELAC for a potluck and time of fellowship.
URL:https://eastlincolnalliance.com/event/single-womens-fellowship-11/
LOCATION:East Lincoln Alliance Church\, 735 70th Avenue\, Amery\, WI\, 54001\, United States
END:VEVENT
END:VCALENDAR