BEGIN:VCALENDAR
VERSION:2.0
PRODID:-//East Lincoln Alliance Church - ECPv6.15.20//NONSGML v1.0//EN
CALSCALE:GREGORIAN
METHOD:PUBLISH
X-WR-CALNAME:East Lincoln Alliance Church
X-ORIGINAL-URL:https://eastlincolnalliance.com
X-WR-CALDESC:Events for East Lincoln Alliance Church
REFRESH-INTERVAL;VALUE=DURATION:PT1H
X-Robots-Tag:noindex
X-PUBLISHED-TTL:PT1H
BEGIN:VTIMEZONE
TZID:UTC
BEGIN:STANDARD
TZOFFSETFROM:+0000
TZOFFSETTO:+0000
TZNAME:UTC
DTSTART:20220101T000000
END:STANDARD
END:VTIMEZONE
BEGIN:VEVENT
DTSTART;VALUE=DATE:20230919
DTEND;VALUE=DATE:20230925
DTSTAMP:20260426T034806
CREATED:20230904T145220Z
LAST-MODIFIED:20230904T145220Z
UID:8579-1695081600-1695599999@eastlincolnalliance.com
SUMMARY:Fall Conference
DESCRIPTION:
URL:https://eastlincolnalliance.com/event/fall-conference-4/
LOCATION:WI
END:VEVENT
BEGIN:VEVENT
DTSTART;TZID=UTC:20230923T110000
DTEND;TZID=UTC:20230923T130000
DTSTAMP:20260426T034806
CREATED:20230915T191201Z
LAST-MODIFIED:20230915T191540Z
UID:8682-1695466800-1695474000@eastlincolnalliance.com
SUMMARY:Beginning Sewing
DESCRIPTION:Rosemary Sheffel is offering beginning sewing every other Saturday at the church. Anyone under 12 must be accompanied by an adult. Sewing machines are available\, but if you have one\, please bring it.  We will be making pillowcase dresses for little girls in Uganda.  Rosemary will bring the dresses with her when she travels to Uganda in January. \nIf you have any pillowcases to donate or are interested in joining\, please contact Rosemary.  (715) 220-8924 \nClass size is limited.
URL:https://eastlincolnalliance.com/event/beginning-sewing/
LOCATION:East Lincoln Alliance Church\, 735 70th Avenue\, Amery\, WI\, 54001\, United States
END:VEVENT
BEGIN:VEVENT
DTSTART;TZID=UTC:20230923T190000
DTEND;TZID=UTC:20230923T213000
DTSTAMP:20260426T034806
CREATED:20230904T145803Z
LAST-MODIFIED:20230915T190359Z
UID:8587-1695495600-1695504600@eastlincolnalliance.com
SUMMARY:Survivor in the Dark
DESCRIPTION:East Lincoln students are excited to host another night of fun\, food and Biblical truth on Saturday\, September 23rd 7-9pm at the Deem’s Residence (2374 320th St\, Clear Lake).  All 6th-12th graders are invited.  We will hear from International Worker Tim.\nSurvivor in the Dark is an event where students enjoy a nighttime game of hide and seek with some interesting twists.  Please come and enjoy! \nWe encourage parents to fill out a Parent Permission Form\, found here: https://eastlincolnalliance.com/recharge. \nThe event is free\, but please consider a love offering for our International Workers.  Be sure to invite your friends\, you don’t want to miss this!  Bring a snack to share\, dress in pants\, long sleeve shirt\, tennis shoes and bring a headlamp or flashlight! \nContact Kent Tollakson if you have questions.
URL:https://eastlincolnalliance.com/event/survivor-in-the-dark-4/
LOCATION:Deems’ Property\, 2374 320th St\, Clear Lake\, WI\, 54005\, United States
END:VEVENT
END:VCALENDAR