BEGIN:VCALENDAR
VERSION:2.0
PRODID:-//East Lincoln Alliance Church - ECPv6.15.20//NONSGML v1.0//EN
CALSCALE:GREGORIAN
METHOD:PUBLISH
X-WR-CALNAME:East Lincoln Alliance Church
X-ORIGINAL-URL:https://eastlincolnalliance.com
X-WR-CALDESC:Events for East Lincoln Alliance Church
REFRESH-INTERVAL;VALUE=DURATION:PT1H
X-Robots-Tag:noindex
X-PUBLISHED-TTL:PT1H
BEGIN:VTIMEZONE
TZID:UTC
BEGIN:STANDARD
TZOFFSETFROM:+0000
TZOFFSETTO:+0000
TZNAME:UTC
DTSTART:20220101T000000
END:STANDARD
END:VTIMEZONE
BEGIN:VEVENT
DTSTART;VALUE=DATE:20230919
DTEND;VALUE=DATE:20230925
DTSTAMP:20260426T034806
CREATED:20230904T145220Z
LAST-MODIFIED:20230904T145220Z
UID:8579-1695081600-1695599999@eastlincolnalliance.com
SUMMARY:Fall Conference
DESCRIPTION:
URL:https://eastlincolnalliance.com/event/fall-conference-4/
LOCATION:WI
END:VEVENT
BEGIN:VEVENT
DTSTART;TZID=UTC:20230919T083000
DTEND;TZID=UTC:20230919T143000
DTSTAMP:20260426T034806
CREATED:20230821T165104Z
LAST-MODIFIED:20230821T165104Z
UID:8492-1695112200-1695133800@eastlincolnalliance.com
SUMMARY:Homeschool Co-op Classes
DESCRIPTION:
URL:https://eastlincolnalliance.com/event/homeschool-co-op-classes-3/
LOCATION:East Lincoln Alliance Church\, 735 70th Avenue\, Amery\, WI\, 54001\, United States
END:VEVENT
BEGIN:VEVENT
DTSTART;TZID=UTC:20230919T093000
DTEND;TZID=UTC:20230919T113000
DTSTAMP:20260426T034806
CREATED:20230904T145335Z
LAST-MODIFIED:20230904T145351Z
UID:8581-1695115800-1695123000@eastlincolnalliance.com
SUMMARY:Fall Conference - Tuesday Women's Bible Study
DESCRIPTION:All women are invited to attend to hear Hannah speak.  There will be a potluck meal as well.
URL:https://eastlincolnalliance.com/event/tuesday-womens-bible-study/
LOCATION:East Lincoln Alliance Church\, 735 70th Avenue\, Amery\, WI\, 54001\, United States
END:VEVENT
END:VCALENDAR