BEGIN:VCALENDAR
VERSION:2.0
PRODID:-//East Lincoln Alliance Church - ECPv6.15.20//NONSGML v1.0//EN
CALSCALE:GREGORIAN
METHOD:PUBLISH
X-ORIGINAL-URL:https://eastlincolnalliance.com
X-WR-CALDESC:Events for East Lincoln Alliance Church
REFRESH-INTERVAL;VALUE=DURATION:PT1H
X-Robots-Tag:noindex
X-PUBLISHED-TTL:PT1H
BEGIN:VTIMEZONE
TZID:UTC
BEGIN:STANDARD
TZOFFSETFROM:+0000
TZOFFSETTO:+0000
TZNAME:UTC
DTSTART:20220101T000000
END:STANDARD
END:VTIMEZONE
BEGIN:VEVENT
DTSTART;TZID=UTC:20230830T170000
DTEND;TZID=UTC:20230830T180000
DTSTAMP:20260426T034804
CREATED:20230821T164006Z
LAST-MODIFIED:20230821T164006Z
UID:8486-1693414800-1693418400@eastlincolnalliance.com
SUMMARY:Recharge Leader Meeting
DESCRIPTION:Recharge volunteers are encouraged to attend a leader meeting on Wednesday\, August 30th from 5-6pm at ELAC\, food will be provided. RSVP to Kent.
URL:https://eastlincolnalliance.com/event/recharge-leader-meeting/
LOCATION:East Lincoln Alliance Church\, 735 70th Avenue\, Amery\, WI\, 54001\, United States
END:VEVENT
BEGIN:VEVENT
DTSTART;TZID=UTC:20230830T180000
DTEND;TZID=UTC:20230830T190000
DTSTAMP:20260426T034804
CREATED:20230821T154935Z
LAST-MODIFIED:20230821T154935Z
UID:8454-1693418400-1693422000@eastlincolnalliance.com
SUMMARY:Parent Workshop Re: Technology
DESCRIPTION:All parents and families are invited to a parent training on students and technology at ELAC on Wednesday\, August 30th from 6-7pm\, immediately following the youth ministry volunteer meeting.  Refreshments will be provided.  Any questions\, contact the church office or Kent Tollakson. \nIn this video teaching\, Dr. Sean McDowell offers a clear roadmap for parents on blending faith with digital literacy.
URL:https://eastlincolnalliance.com/event/parent-workshop-re-technology/
LOCATION:East Lincoln Alliance Church\, 735 70th Avenue\, Amery\, WI\, 54001\, United States
END:VEVENT
END:VCALENDAR